BEGIN:VCALENDAR
VERSION:2.0
PRODID:-//FAIR - ECPv6.15.3//NONSGML v1.0//EN
CALSCALE:GREGORIAN
METHOD:PUBLISH
X-ORIGINAL-URL:https://www.fairvictims.com
X-WR-CALDESC:Events for FAIR
REFRESH-INTERVAL;VALUE=DURATION:PT1H
X-Robots-Tag:noindex
X-PUBLISHED-TTL:PT1H
BEGIN:VTIMEZONE
TZID:UTC
BEGIN:STANDARD
TZOFFSETFROM:+0000
TZOFFSETTO:+0000
TZNAME:UTC
DTSTART:20230101T000000
END:STANDARD
END:VTIMEZONE
BEGIN:VEVENT
DTSTART;TZID=UTC:20231005T190000
DTEND;TZID=UTC:20231005T213000
DTSTAMP:20260424T130434
CREATED:20230914T155624Z
LAST-MODIFIED:20230914T155624Z
UID:120402-1696532400-1696541400@www.fairvictims.com
SUMMARY:Community Health Champion Training III
DESCRIPTION:FAIR will be hosting a Community Health Champion Training course over three evenings where members will learn how to help others in their community to understand health issues and how to improve impact. \n 
URL:https://www.fairvictims.com/event/community-health-champion-training-iii/
LOCATION:FAIR\, 18 Mowhan Road\, Markethill\, BT60 1 RQ\, United Kingdom
ATTACH;FMTTYPE=image/jpeg:https://fairvictims.com/wp-content/uploads/2023/09/IMG_2944.jpeg
ORGANIZER;CN="FAIR":MAILTO:info@fairvictims.com
END:VEVENT
BEGIN:VEVENT
DTSTART;TZID=UTC:20230921T190000
DTEND;TZID=UTC:20230921T213000
DTSTAMP:20260424T130434
CREATED:20230914T155536Z
LAST-MODIFIED:20230914T155536Z
UID:120400-1695322800-1695331800@www.fairvictims.com
SUMMARY:Community Health Champion Training II
DESCRIPTION:FAIR will be hosting a Community Health Champion Training course over three evenings where members will learn how to help others in their community to understand health issues and how to improve impact. \n 
URL:https://www.fairvictims.com/event/community-health-champion-training-ii/
LOCATION:FAIR\, 18 Mowhan Road\, Markethill\, BT60 1 RQ\, United Kingdom
ATTACH;FMTTYPE=image/jpeg:https://fairvictims.com/wp-content/uploads/2023/09/IMG_2944.jpeg
ORGANIZER;CN="FAIR":MAILTO:info@fairvictims.com
END:VEVENT
BEGIN:VEVENT
DTSTART;TZID=UTC:20230914T190000
DTEND;TZID=UTC:20230914T213000
DTSTAMP:20260424T130434
CREATED:20230914T155234Z
LAST-MODIFIED:20230914T155234Z
UID:120392-1694718000-1694727000@www.fairvictims.com
SUMMARY:Community Health Champion Training
DESCRIPTION:FAIR will be hosting a Community Health Champion Training course over three evenings where members will learn how to help others in their community to understand health issues and how to improve impact. \n 
URL:https://www.fairvictims.com/event/community-health-champion-training/
LOCATION:FAIR\, 18 Mowhan Road\, Markethill\, BT60 1 RQ\, United Kingdom
ATTACH;FMTTYPE=image/jpeg:https://fairvictims.com/wp-content/uploads/2023/09/IMG_2944.jpeg
ORGANIZER;CN="FAIR":MAILTO:info@fairvictims.com
END:VEVENT
BEGIN:VEVENT
DTSTART;TZID=UTC:20230827T153000
DTEND;TZID=UTC:20230827T170000
DTSTAMP:20260424T130434
CREATED:20230807T150850Z
LAST-MODIFIED:20230807T150850Z
UID:120344-1693150200-1693155600@www.fairvictims.com
SUMMARY:Narrow Water Memorial Service
DESCRIPTION:MEMORIAL AT NARROW WATER ON 27TH AUGUST \nA memorial service for 18 soldiers of the Parachute Regiment who were killed in an IRA attack in Co Down. \nThe PIRA bombers targeted a convoy of vehicles transporting Parachute Regiment soldiers from Ballykinler barracks to Newry on August 27 1979. \nAs they passed the old Narrow Water castle ruins\, the IRA remotely detonated the two bombs from a firing point across the Newry River in the safe haven of the Republic of Ireland. \nThere was also a 19th victim – Michael Hudson\, who had been visiting the Republic from London\, who was killed by army gunfire across the river following the blasts. \nThe incident came just hours after Lord Mountbatten\, two members of his family and a Co Fermanagh teenager had been killed by the IRA in a boat bomb in Co Sligo. \nFAIR will be organising the annual event which will centre on an act of remembrance and wreath laying. \n 
URL:https://www.fairvictims.com/event/narrow-water-memorial-service/
LOCATION:Narrow Water Castle\, 67 Newry Rd\,\, Warrenpoint\, Newry\, BT34 3LE\, United Kingdom
ATTACH;FMTTYPE=image/jpeg:https://fairvictims.com/wp-content/uploads/2023/04/256374428_2040463786128671_8490811190088652610_n.jpg
ORGANIZER;CN="FAIR":MAILTO:info@fairvictims.com
END:VEVENT
END:VCALENDAR